BEGIN:VCALENDAR
VERSION:2.0
PRODID:-//Inner Starr Compass Healing - ECPv6.15.20//NONSGML v1.0//EN
CALSCALE:GREGORIAN
METHOD:PUBLISH
X-WR-CALNAME:Inner Starr Compass Healing
X-ORIGINAL-URL:https://www.innerstarrcompasshealing.com
X-WR-CALDESC:Events for Inner Starr Compass Healing
REFRESH-INTERVAL;VALUE=DURATION:PT1H
X-Robots-Tag:noindex
X-PUBLISHED-TTL:PT1H
BEGIN:VTIMEZONE
TZID:UTC
BEGIN:STANDARD
TZOFFSETFROM:+0000
TZOFFSETTO:+0000
TZNAME:UTC
DTSTART:20250101T000000
END:STANDARD
END:VTIMEZONE
BEGIN:VEVENT
DTSTART;TZID=UTC:20260420T180000
DTEND;TZID=UTC:20260420T190000
DTSTAMP:20260420T003308
CREATED:20260327T215634Z
LAST-MODIFIED:20260415T192504Z
UID:1765-1776708000-1776711600@www.innerstarrcompasshealing.com
SUMMARY:Earth Day Sound Healing Experience
DESCRIPTION:Sound Healing Event Schedule\nNo previous meditation experience is necessary. Just come as you are and allow yourself to receive the calming benefits of sound. \n\n\n\n\n \n\n\nApril 20\, 2026 \n6:00 – 7:00 PM \n\n\nDr. Aletha Williams \nEarth Day Sound Healing Experience \nReconnect. Restore. Realign. \nIn celebration of Earth Day\, join Dr. Aletha Williams\, Mind-Body Practitioner\, for a special Sound Healing Meditation designed to reconnect you with the natural rhythm of the Earth and the healing vibration within your own body. \nJust as the Earth holds its own frequency and rhythm\, our bodies respond to vibration\, sound\, and stillness. During this immersive 45-minute sound bowl meditation\, the soothing tones will gently guide your nervous system into a deep state of relaxation\, helping the body shift into a parasympathetic state where healing and restoration can occur. \nEarth Day reminds us to care not only for the planet beneath our feet\, but also for the mind\, body\, and spirit within us. \nCome take this moment to pause from the busyness of life and reconnect with the elements: sound\, breath\, vibration\, and presence. \nAllow the vibrations to quiet the mind\, release stress from the body\, and bring you back into harmony with yourself and the natural world. \n✨ Celebrate Earth Day by giving your body the gift of stillness and sound. \nSession: Sound Bowl MeditationLength: 45 Minutes🌿 Relax your mind.🌿 Restore your body.🌿 Reconnect with the Earth. \n\n\n \nRegister \n\n\n\n\n \n  \n\n\nApril 27\, 2026 6:00 – 7:00 PM \n\n\nFreedom Day Sound Healing Experience \nA Time to Release\, Reset\, and Renew \nFreedom is not only something we celebrate in history\, but it is also something we can experience within ourselves. \nJoin Dr. Aletha Williams\, Mind-Body Practitioner\, for a special Freedom Day Sound Healing Session designed to help you release stress\, quiet the mind\, and reconnect with a deeper sense of inner peace. \nDuring this 45-minute sound bowl meditation\, the gentle vibrations of sound will guide your body into a deeply relaxed state. As the soothing frequencies move through the space\, the nervous system shifts into a parasympathetic state\, allowing the body to rest\, restore\, and realign. \nFreedom Day reminds us that true freedom also includes the freedom to:• release tension• let go of emotional weight• breathe deeply• and be present. \nGive yourself permission to pause and experience the healing power of sound. \n\n\n \nRegister \n\n\n\n\n \n  \n\n\nMay 4\, 2026 6:00 – 7:00 PM \n\n\nSound Healing Session \nRestoration\, resilience\, and rebuilding. \nMay 4th represents a powerful moment in history—a day that symbolizes the beginning of restoration\, resilience\, and rebuilding. It reminds us that after destruction or hardship\, there is always the possibility for renewal and growth. \nIn that same spirit\, sound healing offers the body and mind an opportunity to restore balance and return to a natural state of harmony. \nJoin Dr. Aletha Williams\, Mind-Body Practitioner\, for a 45-minute Sound Bowl Healing Session designed to help release the weight of daily stress and invite the body into deep relaxation. Through the gentle vibrations of crystal sound bowls\, participants are guided into a calm meditative state where the nervous system can shift into the parasympathetic response\, the state where the body naturally repairs\, restores\, and rebalances itself. \nJust as May 4th symbolizes the rebuilding of a community\, this session invites you to rebuild and renew from within. \nAllow the soothing frequencies of sound to quiet the mind\, settle the body\, and reconnect you with a sense of inner peace and resilience. \nCome experience:\n• Deep relaxation through vibrational sound• A calming meditation for the mind and body• A space to release stress and restore balance \nGive yourself permission to pause\, breathe\, and experience the healing power of sound. \n\n\n \nRegister \n\n\n\n\n \n  \n\n\nMay 11\, 2026 6:00 – 7:00 PM \n\n\nA Mother’s Day Sound Healing  \nCare\, compassion\, and restoration \nMother’s Day is a time to honor the nurturing spirit—the energy of care\, compassion\, and restoration that mothers and caregivers bring into our lives. It is also a moment to pause and offer that same nurturing energy back to ourselves. \nJoin Dr. Aletha Williams\, Mind-Body Practitioner\, for a special 45-minute Sound Bowl Healing Session created to encourage deep relaxation\, reflection\, and renewal. \nThe gentle tones and vibrations of crystal sound bowls help calm the nervous system and guide the body into a parasympathetic state\, where stress begins to melt away\, and the mind and body can restore balance. In this peaceful space\, participants are invited to breathe\, be present\, and allow the soothing frequencies of sound to support emotional and physical relaxation. \nThis experience is a beautiful way to:• Honor mothers and caregivers• Give yourself the gift of stillness and renewal• Reconnect with the nurturing energy within \nWhether you are celebrating a mother\, remembering one\, or simply honoring the nurturing spirit within yourself\, this session offers a moment to pause and receive. \n✨ Relax the mind.✨ Restore the body.✨ Honor the nurturing spirit within. \n\n\n \nRegister \n\n\n\n\n\n\n\n\n\nS
URL:https://www.innerstarrcompasshealing.com/event/dance-with-the-healing-vibrations-of-sound/
CATEGORIES:SOUND HEALING SESSIONS
ATTACH;FMTTYPE=image/jpeg:https://www.innerstarrcompasshealing.com/wp-content/uploads/2026/03/658217430_1659421548566768_879156583994397696_n.jpg
ORGANIZER;CN="Aletha Williams":MAILTO:alethawilliams911@gmail.com
END:VEVENT
END:VCALENDAR